BEGIN:VCALENDAR
VERSION:2.0
BEGIN:VEVENT
TZID:Europe/Paris
STATUS:CONFIRMED
DTSTART:20251006T143000
DTEND:20251006T153000
SUMMARY:Aider sans se perdre : une philosophie du temps pour penser l'aidance
DESCRIPTION:TITRE DE LA CONFÉRENCE : Aider sans se perdre : une philosophie du temps pour penser l'aidance\n\nDATE ET HEURE DE LA CONFÉRENCE : 06/10/2025 14h30\n\nDURÉE DE LA CONFÉRENCE : 60 minutes\n\nDESCRIPTION : Comment aider sans s’épuiser ni se perdre soi-même ? En s’appuyant sur son double regard de philosophe et de soignant\, Mathieu Briest propose une réflexion inédite sur l’aidance à travers la question du temps : temps pour l’autre\, mais aussi temps pour soi.\n\nCette conférence invite à repenser nos rythmes\, nos présences\, et à cultiver une aide plus juste\, plus humaine. Un rendez-vous essentiel pour toutes celles et ceux qui\, dans leur vie ou leur métier\, prennent soin des autres.\n\nCliquez sur le lien suivant pour plus d'informations ou vous connecter à la conférence : http://www.happyvisio.com/conference/7328-Aider-sans-se-perdre-une-philosophie-du-temps-pour-penser-l-aidance
X-ALT-DESC;FMTTYPE=text/html:TITRE DE LA CONFÉRENCE : Aider sans se perdre : une philosophie du temps pour penser l'aidance DATE ET HEURE DE LA CONFÉRENCE : 06/10/2025 14h30 DURÉE DE LA CONFÉRENCE : 60 minutes DESCRIPTION : Comment aider sans s’épuiser ni se perdre soi-même ? En s’appuyant sur son double regard de philosophe et de soignant\, Mathieu Briest propose une réflexion inédite sur l’aidance à travers la question du temps : temps pour l’autre\, mais aussi temps pour soi.\n\nCette conférence invite à repenser nos rythmes\, nos présences\, et à cultiver une aide plus juste\, plus humaine. Un rendez-vous essentiel pour toutes celles et ceux qui\, dans leur vie ou leur métier\, prennent soin des autres.\n\nCliquez sur le lien suivant pour plus d'informations ou vous connecter à la conférence : http://www.happyvisio.com/conference/7328-Aider-sans-se-perdre-une-philosophie-du-temps-pour-penser-l-aidance
END:VEVENT
END:VCALENDAR
