BEGIN:VCALENDAR
VERSION:2.0
BEGIN:VEVENT
TZID:Europe/Paris
STATUS:CONFIRMED
DTSTART:20251113T140000
DTEND:20251113T153000
SUMMARY:Les clés nutritionnelles après un cancer
DESCRIPTION:<p><b>Titre de la conférence</b> : Les clés nutritionnelles après un cancer </p>
 <p><b>Date et heure de la conférence</b> : 13/11/2025 14h00</p>
 <p><b>Durée de la conférence </b>: 90 minutes</p>
 <b>Description</b> : <p style=\"text-align:justify\"><strong>C&#39\;est scientifiquement d&eacute\;montr&eacute\; : l&#39\;alimentation joue un r&ocirc\;le cl&eacute\; avant\, pendant\, et apr&egrave\;s le cancer.</strong></p>\n\n<p style=\"text-align:justify\">Apr&egrave\;s les traitements de soins pour un cancer\, le corps a besoin de se r&eacute\;g&eacute\;n&eacute\;rer\, de faire face aux carences et de retrouver un &eacute\;tat d&#39\;&eacute\;quilibre apr&egrave\;s une p&eacute\;riode de soins de chimioth&eacute\;rapie\, de radioth&eacute\;rapie...<br />\n<br />\nCette conf&eacute\;rence apportera &agrave\; chacune et &agrave\; chacun\, les conseils pour faire les bons choix en alimentation sant&eacute\; et trouver des solutions pour corriger les signes du corps.&nbsp\;<br />\n&nbsp\;</p>\n\n<p style=\"text-align:justify\">Cette conf&eacute\;rence est organis&eacute\;e avec le soutien de&nbsp\;<a href=\"https://www.malakoffhumanis.com/\" target=\"_blank\">Malakoff Humanis</a>.</p>\n\n<p style=\"text-align:justify\">&nbsp\;</p>\n<p><a href="http://www.happyvisio.com/conference/7327-Les-cles-nutritionnelles-apres-un-cancer">Cliquez-ici pour obtenir plus d’informations ou vous connecter à la conférence</a></p>
X-ALT-DESC;FMTTYPE=text/html:<p><b>Titre de la conférence</b> : Les clés nutritionnelles après un cancer </p>
 <p><b>Date et heure de la conférence</b> : 13/11/2025 14h00</p>
 <p><b>Durée de la conférence </b>: 90 minutes</p>
 <b>Description</b> : <p style=\"text-align:justify\"><strong>C&#39\;est scientifiquement d&eacute\;montr&eacute\; : l&#39\;alimentation joue un r&ocirc\;le cl&eacute\; avant\, pendant\, et apr&egrave\;s le cancer.</strong></p>\n\n<p style=\"text-align:justify\">Apr&egrave\;s les traitements de soins pour un cancer\, le corps a besoin de se r&eacute\;g&eacute\;n&eacute\;rer\, de faire face aux carences et de retrouver un &eacute\;tat d&#39\;&eacute\;quilibre apr&egrave\;s une p&eacute\;riode de soins de chimioth&eacute\;rapie\, de radioth&eacute\;rapie...<br />\n<br />\nCette conf&eacute\;rence apportera &agrave\; chacune et &agrave\; chacun\, les conseils pour faire les bons choix en alimentation sant&eacute\; et trouver des solutions pour corriger les signes du corps.&nbsp\;<br />\n&nbsp\;</p>\n\n<p style=\"text-align:justify\">Cette conf&eacute\;rence est organis&eacute\;e avec le soutien de&nbsp\;<a href=\"https://www.malakoffhumanis.com/\" target=\"_blank\">Malakoff Humanis</a>.</p>\n\n<p style=\"text-align:justify\">&nbsp\;</p>\n<p><a href="http://www.happyvisio.com/conference/7327-Les-cles-nutritionnelles-apres-un-cancer">Cliquez-ici pour obtenir plus d’informations ou vous connecter à la conférence</a></p>
END:VEVENT
END:VCALENDAR
