BEGIN:VCALENDAR
VERSION:2.0
BEGIN:VEVENT
TZID:Europe/Paris
STATUS:CONFIRMED
DTSTART:20251106T140000
DTEND:20251106T153000
SUMMARY:Les stratégies nutritionnelles à la découverte d'un cancer
DESCRIPTION:<p><b>Titre de la conférence</b> : Les stratégies nutritionnelles à la découverte d'un cancer </p>
 <p><b>Date et heure de la conférence</b> : 06/11/2025 14h00</p>
 <p><b>Durée de la conférence </b>: 90 minutes</p>
 <b>Description</b> : <p style=\"text-align:justify\"><strong>C&#39\;est scientifiquement d&eacute\;montr&eacute\; : l&#39\;alimentation joue un r&ocirc\;le cl&eacute\; avant\, pendant\, et apr&egrave\;s le cancer.</strong></p>\n\n<p style=\"text-align:justify\">Lors de cette visioconf&eacute\;rence\, Thierry Michel\, micronutritionniste\, propose son expertise sur le plan nutritionnel\, &agrave\; la suite d&#39\;un diagnostic d&#39\;un cancer\, ou en cours de traitement et donne des clefs pour prendre soin de soi avec une alimentation sant&eacute\; et vivante.&nbsp\;<br />\nRetrouvez du plaisir dans votre assiette et conserver une d&eacute\;marche bienveillante vis-&agrave\;-vis de votre corps.&nbsp\;</p>\n\n<p style=\"text-align:justify\">Cette conf&eacute\;rence fait partie\, au sein du programme Cancer Tous Concern&eacute\;s\, d&#39\;un cycle de 3 conf&eacute\;rences (accessibles en direct exclusivement)\, d&eacute\;di&eacute\; &agrave\; la bonne nutrition tout au long des &eacute\;v&egrave\;nements de la vie.<br />\n<br />\nLa derni&egrave\;re des 3 conf&eacute\;rences&nbsp\;<em>Les cl&eacute\;s pour une pleine vitalit&eacute\; : &nbsp\;la pr&eacute\;vention des cancers avec l&#39\;alimentation</em>&nbsp\; est propos&eacute\;e le jeudi 13 novembre &agrave\; 14h00.<br />\n<br />\n&nbsp\;</p>\n\n<p style=\"text-align:justify\">Cette conf&eacute\;rence est organis&eacute\;e avec le soutien de&nbsp\;<a href=\"https://www.malakoffhumanis.com/\" target=\"_blank\">Malakoff Humanis</a>.</p>\n\n<p style=\"text-align:justify\"><strong><u><a href=\"https://lien.happyvisio.com/MH2025\" target=\"_blank\">Cliquez ici pour d&eacute\;couvrir toutes les conf&eacute\;rences du cycle Cancer Tous concern&eacute\;s</a></u></strong>.</p>\n<p><a href="http://www.happyvisio.com/conference/7326-Les-strategies-nutritionnelles-a-la-decouverte-d-un-cancer">Cliquez-ici pour obtenir plus d’informations ou vous connecter à la conférence</a></p>
X-ALT-DESC;FMTTYPE=text/html:<p><b>Titre de la conférence</b> : Les stratégies nutritionnelles à la découverte d'un cancer </p>
 <p><b>Date et heure de la conférence</b> : 06/11/2025 14h00</p>
 <p><b>Durée de la conférence </b>: 90 minutes</p>
 <b>Description</b> : <p style=\"text-align:justify\"><strong>C&#39\;est scientifiquement d&eacute\;montr&eacute\; : l&#39\;alimentation joue un r&ocirc\;le cl&eacute\; avant\, pendant\, et apr&egrave\;s le cancer.</strong></p>\n\n<p style=\"text-align:justify\">Lors de cette visioconf&eacute\;rence\, Thierry Michel\, micronutritionniste\, propose son expertise sur le plan nutritionnel\, &agrave\; la suite d&#39\;un diagnostic d&#39\;un cancer\, ou en cours de traitement et donne des clefs pour prendre soin de soi avec une alimentation sant&eacute\; et vivante.&nbsp\;<br />\nRetrouvez du plaisir dans votre assiette et conserver une d&eacute\;marche bienveillante vis-&agrave\;-vis de votre corps.&nbsp\;</p>\n\n<p style=\"text-align:justify\">Cette conf&eacute\;rence fait partie\, au sein du programme Cancer Tous Concern&eacute\;s\, d&#39\;un cycle de 3 conf&eacute\;rences (accessibles en direct exclusivement)\, d&eacute\;di&eacute\; &agrave\; la bonne nutrition tout au long des &eacute\;v&egrave\;nements de la vie.<br />\n<br />\nLa derni&egrave\;re des 3 conf&eacute\;rences&nbsp\;<em>Les cl&eacute\;s pour une pleine vitalit&eacute\; : &nbsp\;la pr&eacute\;vention des cancers avec l&#39\;alimentation</em>&nbsp\; est propos&eacute\;e le jeudi 13 novembre &agrave\; 14h00.<br />\n<br />\n&nbsp\;</p>\n\n<p style=\"text-align:justify\">Cette conf&eacute\;rence est organis&eacute\;e avec le soutien de&nbsp\;<a href=\"https://www.malakoffhumanis.com/\" target=\"_blank\">Malakoff Humanis</a>.</p>\n\n<p style=\"text-align:justify\"><strong><u><a href=\"https://lien.happyvisio.com/MH2025\" target=\"_blank\">Cliquez ici pour d&eacute\;couvrir toutes les conf&eacute\;rences du cycle Cancer Tous concern&eacute\;s</a></u></strong>.</p>\n<p><a href="http://www.happyvisio.com/conference/7326-Les-strategies-nutritionnelles-a-la-decouverte-d-un-cancer">Cliquez-ici pour obtenir plus d’informations ou vous connecter à la conférence</a></p>
END:VEVENT
END:VCALENDAR
