BEGIN:VCALENDAR
VERSION:2.0
BEGIN:VEVENT
TZID:Europe/Paris
STATUS:CONFIRMED
DTSTART:20251106T143000
DTEND:20251106T153000
SUMMARY:Booster son immunité dans l'assiette
DESCRIPTION:TITRE DE LA CONFÉRENCE : Booster son immunité dans l'assiette\n\nDATE ET HEURE DE LA CONFÉRENCE : 06/11/2025 14h30\n\nDURÉE DE LA CONFÉRENCE : 60 minutes\n\nDESCRIPTION : Passer au travers des épidémies hivernales ne doit rien au hasard !\n\nC’est une question d’immunité\, et cela se prépare\, dès la rentrée.\n\nPour être fort et efficace face aux virus\, il faut d'abord se concentrer sur son assiette. Quels sont les nutriments qui renforcent notre système immunitaire ?\n\nQuels sont les aliments à privilégier et les gestes simples à installer au quotidien ?\n\nCette conférence abordera également le lien essentiel entre une flore intestinale équilibrée et un système de défense efficace. Des conseils pratiques et adaptés aux séniors pour passer l'hiver en forme. \n\nCliquez sur le lien suivant pour plus d'informations ou vous connecter à la conférence : http://www.happyvisio.com/conference/7323-Booster-son-immunite-dans-l-assiette
X-ALT-DESC;FMTTYPE=text/html:TITRE DE LA CONFÉRENCE : Booster son immunité dans l'assiette DATE ET HEURE DE LA CONFÉRENCE : 06/11/2025 14h30 DURÉE DE LA CONFÉRENCE : 60 minutes DESCRIPTION : Passer au travers des épidémies hivernales ne doit rien au hasard !\n\nC’est une question d’immunité\, et cela se prépare\, dès la rentrée.\n\nPour être fort et efficace face aux virus\, il faut d'abord se concentrer sur son assiette. Quels sont les nutriments qui renforcent notre système immunitaire ?\n\nQuels sont les aliments à privilégier et les gestes simples à installer au quotidien ?\n\nCette conférence abordera également le lien essentiel entre une flore intestinale équilibrée et un système de défense efficace. Des conseils pratiques et adaptés aux séniors pour passer l'hiver en forme. \n\nCliquez sur le lien suivant pour plus d'informations ou vous connecter à la conférence : http://www.happyvisio.com/conference/7323-Booster-son-immunite-dans-l-assiette
END:VEVENT
END:VCALENDAR
