BEGIN:VCALENDAR
VERSION:2.0
BEGIN:VEVENT
TZID:Europe/Paris
STATUS:CONFIRMED
DTSTART:20251023T143000
DTEND:20251023T153000
SUMMARY:L’eau, combien ça goutte ?
DESCRIPTION:<p><b>Titre de la conférence</b> : L’eau, combien ça goutte ? </p>
 <p><b>Date et heure de la conférence</b> : 23/10/2025 14h30</p>
 <p><b>Durée de la conférence </b>: 60 minutes</p>
 <b>Description</b> : <p>L&rsquo\;eau\, cette ressource indispensable &agrave\; la vie. Mais combien &ccedil\;a goutte ? Ou combien &ccedil\;a co&ucirc\;te ?</p>\n\n<p>Pourquoi le prix risque d&rsquo\;augmenter ? Comment limiter cette hausse ?</p>\n\n<p>Commen&ccedil\;ons par prendre conscience de nos usages et de notre consommation afin de pr&eacute\;server cette ressource et afin de contenir l&rsquo\;augmentation des factures d&rsquo\;eau.</p>\n\n<p>Ensemble\, revisitons notre quotidien et avec quelques petits changements\, de grandes &eacute\;conomies &agrave\; la cl&eacute\;.</p>\n<p><a href="http://www.happyvisio.com/conference/7308-L-eau-combien-ca-goutte">Cliquez-ici pour obtenir plus d’informations ou vous connecter à la conférence</a></p>
X-ALT-DESC;FMTTYPE=text/html:<p><b>Titre de la conférence</b> : L’eau, combien ça goutte ? </p>
 <p><b>Date et heure de la conférence</b> : 23/10/2025 14h30</p>
 <p><b>Durée de la conférence </b>: 60 minutes</p>
 <b>Description</b> : <p>L&rsquo\;eau\, cette ressource indispensable &agrave\; la vie. Mais combien &ccedil\;a goutte ? Ou combien &ccedil\;a co&ucirc\;te ?</p>\n\n<p>Pourquoi le prix risque d&rsquo\;augmenter ? Comment limiter cette hausse ?</p>\n\n<p>Commen&ccedil\;ons par prendre conscience de nos usages et de notre consommation afin de pr&eacute\;server cette ressource et afin de contenir l&rsquo\;augmentation des factures d&rsquo\;eau.</p>\n\n<p>Ensemble\, revisitons notre quotidien et avec quelques petits changements\, de grandes &eacute\;conomies &agrave\; la cl&eacute\;.</p>\n<p><a href="http://www.happyvisio.com/conference/7308-L-eau-combien-ca-goutte">Cliquez-ici pour obtenir plus d’informations ou vous connecter à la conférence</a></p>
END:VEVENT
END:VCALENDAR
