BEGIN:VCALENDAR
VERSION:2.0
BEGIN:VEVENT
TZID:Europe/Paris
STATUS:CONFIRMED
DTSTART:20251030T143000
DTEND:20251030T153000
SUMMARY:VIAGERS et autres .... Comment obtenir des liquidités à plus de 70 ans grâce à son patrimoine immobilier ?
DESCRIPTION:<p><b>Titre de la conférence</b> : VIAGERS et autres .... Comment obtenir des liquidités à plus de 70 ans grâce à son patrimoine immobilier ? </p>
 <p><b>Date et heure de la conférence</b> : 30/10/2025 14h30</p>
 <p><b>Durée de la conférence </b>: 60 minutes</p>
 <b>Description</b> : <p>La mise en garantie de votre bien peut permettre l\'obtention d\'un prêt hypothécaire ou d\'une vente en réméré. On peut aussi envisager la vente partielle ou de la vente de la nue-propriété dans le cas d\'un démembrement ou d\'un viager. Vous connaissez le prêt hypothécaire et le viager\, mais certainement pas la vente à terme ou le démembrement de propriété\,&nbsp\; si on en parlait sans tabou !</p>\n\n<p>APARTAVIE met en lumière toutes les possibilités de récupérer des liquidités.</p>\n\n<p>Des solutions existent pour répondre à toutes les situations :&nbsp\; &nbsp\; &nbsp\;</p>\n\n<ul>\n	<li>Vous êtes attachés à votre domicile\, vous souhaitez rester chez vous\, rien ne vous empêche de le vendre.<br />\n	&nbsp\;</li>\n	<li>Vous souhaitez augmenter vos&nbsp\; ressources pour financer un projet personnel\, réaliser des travaux\, vivre confortablement.<br />\n	&nbsp\;</li>\n	<li>Vous souhaitez protéger votre conjoint\, aider vos enfants ou petits-enfants.<br />\n	&nbsp\;</li>\n	<li>Vous aimeriez rejoindre une résidence Sénior.<br />\n	&nbsp\;</li>\n</ul>\n\n<p>Viager\, démembrement de propriété\, vente à terme\, prêts hypothécaires sont autant de pistes à explorer. Il existe une solution pour chacun en fonction de son âge et de ses envies.</p>\n\n<p><strong>Anticiper\, c\'est se donner les moyens d\'assurer son avenir.</strong></p>\n<p><a href="http://www.happyvisio.com/conference/7307-VIAGERS-et-autres-Comment-obtenir-des-liquidites-a-plus-de-70-ans-grace-a-son-patrimoine-immobilier">Cliquez-ici pour obtenir plus d’informations ou vous connecter à la conférence</a></p>
X-ALT-DESC;FMTTYPE=text/html:<p><b>Titre de la conférence</b> : VIAGERS et autres .... Comment obtenir des liquidités à plus de 70 ans grâce à son patrimoine immobilier ? </p>
 <p><b>Date et heure de la conférence</b> : 30/10/2025 14h30</p>
 <p><b>Durée de la conférence </b>: 60 minutes</p>
 <b>Description</b> : <p>La mise en garantie de votre bien peut permettre l\'obtention d\'un prêt hypothécaire ou d\'une vente en réméré. On peut aussi envisager la vente partielle ou de la vente de la nue-propriété dans le cas d\'un démembrement ou d\'un viager. Vous connaissez le prêt hypothécaire et le viager\, mais certainement pas la vente à terme ou le démembrement de propriété\,&nbsp\; si on en parlait sans tabou !</p>\n\n<p>APARTAVIE met en lumière toutes les possibilités de récupérer des liquidités.</p>\n\n<p>Des solutions existent pour répondre à toutes les situations :&nbsp\; &nbsp\; &nbsp\;</p>\n\n<ul>\n	<li>Vous êtes attachés à votre domicile\, vous souhaitez rester chez vous\, rien ne vous empêche de le vendre.<br />\n	&nbsp\;</li>\n	<li>Vous souhaitez augmenter vos&nbsp\; ressources pour financer un projet personnel\, réaliser des travaux\, vivre confortablement.<br />\n	&nbsp\;</li>\n	<li>Vous souhaitez protéger votre conjoint\, aider vos enfants ou petits-enfants.<br />\n	&nbsp\;</li>\n	<li>Vous aimeriez rejoindre une résidence Sénior.<br />\n	&nbsp\;</li>\n</ul>\n\n<p>Viager\, démembrement de propriété\, vente à terme\, prêts hypothécaires sont autant de pistes à explorer. Il existe une solution pour chacun en fonction de son âge et de ses envies.</p>\n\n<p><strong>Anticiper\, c\'est se donner les moyens d\'assurer son avenir.</strong></p>\n<p><a href="http://www.happyvisio.com/conference/7307-VIAGERS-et-autres-Comment-obtenir-des-liquidites-a-plus-de-70-ans-grace-a-son-patrimoine-immobilier">Cliquez-ici pour obtenir plus d’informations ou vous connecter à la conférence</a></p>
END:VEVENT
END:VCALENDAR
