BEGIN:VCALENDAR
VERSION:2.0
BEGIN:VEVENT
TZID:Europe/Paris
STATUS:CONFIRMED
DTSTART:20251030T140000
DTEND:20251030T153000
SUMMARY:Les clés pour une pleine vitalité : la prévention des cancers par l'alimentation
DESCRIPTION:<p><b>Titre de la conférence</b> : Les clés pour une pleine vitalité : la prévention des cancers par l'alimentation </p>
 <p><b>Date et heure de la conférence</b> : 30/10/2025 14h00</p>
 <p><b>Durée de la conférence </b>: 90 minutes</p>
 <b>Description</b> : <p style=\"text-align:justify\"><strong>C&#39\;est scientifiquement d&eacute\;montr&eacute\; : l&#39\;alimentation joue un r&ocirc\;le cl&eacute\; avant\, pendant\, et apr&egrave\;s le cancer.</strong><br />\n<br />\nLors de cette visioconf&eacute\;rence\, Thierry Michel\, micronutritionniste\, vous offrira une vision &eacute\;clair&eacute\;e du r&ocirc\;le des aliments dans la pr&eacute\;vention des cancers.&nbsp\;D&eacute\;couvrez comment avoir une alimentation saine et vivante et ce &agrave\; travers la micronutrition d&#39\;apr&egrave\;s des donn&eacute\;es scientifiques r&eacute\;centes.</p>\n\n<p style=\"text-align:justify\">Cette conf&eacute\;rence fait partie d&#39\;un cycle de 3 conf&eacute\;rences. Nous vous invitons &agrave\; suivre en direct les deux autres conf&eacute\;rences pour&nbsp\;un &eacute\;clairage complet sur une bonne nutrition tout au long des &eacute\;v&egrave\;nements de la vie :</p>\n\n<p style=\"text-align:justify\">-<em> Les strat&eacute\;gies nutritionnelles &agrave\; la d&eacute\;couverte d&#39\;un cancer :&nbsp\;Comment bien s&#39\;alimenter pour pr&eacute\;server sa sant&eacute\; au diagnostic d&#39\;un cancer ?</em> le 6 novembre &agrave\; 14h00<br />\n<br />\n-&nbsp\;<em>Les cl&eacute\;s nutritionnelles apr&egrave\;s un cancer :&nbsp\;Comment retrouver le bien-&ecirc\;tre et corriger les carences apr&egrave\;s un traitement ? </em>- le 13 novembre &agrave\; 14h00.<br />\n<br />\n<br />\n&nbsp\;</p>\n\n<p style=\"text-align:justify\">Cette conf&eacute\;rence est organis&eacute\;e avec le soutien de&nbsp\;<a href=\"https://www.malakoffhumanis.com/\" target=\"_blank\">Malakoff Humanis</a>.</p>\n\n<p style=\"text-align:justify\"><strong><u><a href=\"https://lien.happyvisio.com/MH2025\" target=\"_blank\">Cliquez ici pour d&eacute\;couvrir toutes les conf&eacute\;rences du cycle Cancer Tous concern&eacute\;s</a></u></strong>.</p>\n\n<p style=\"text-align:justify\">&nbsp\;</p>\n\n<p style=\"text-align:justify\">&nbsp\;</p>\n<p><a href="http://www.happyvisio.com/conference/7306-Les-cles-pour-une-pleine-vitalite-la-prevention-des-cancers-par-l-alimentation">Cliquez-ici pour obtenir plus d’informations ou vous connecter à la conférence</a></p>
X-ALT-DESC;FMTTYPE=text/html:<p><b>Titre de la conférence</b> : Les clés pour une pleine vitalité : la prévention des cancers par l'alimentation </p>
 <p><b>Date et heure de la conférence</b> : 30/10/2025 14h00</p>
 <p><b>Durée de la conférence </b>: 90 minutes</p>
 <b>Description</b> : <p style=\"text-align:justify\"><strong>C&#39\;est scientifiquement d&eacute\;montr&eacute\; : l&#39\;alimentation joue un r&ocirc\;le cl&eacute\; avant\, pendant\, et apr&egrave\;s le cancer.</strong><br />\n<br />\nLors de cette visioconf&eacute\;rence\, Thierry Michel\, micronutritionniste\, vous offrira une vision &eacute\;clair&eacute\;e du r&ocirc\;le des aliments dans la pr&eacute\;vention des cancers.&nbsp\;D&eacute\;couvrez comment avoir une alimentation saine et vivante et ce &agrave\; travers la micronutrition d&#39\;apr&egrave\;s des donn&eacute\;es scientifiques r&eacute\;centes.</p>\n\n<p style=\"text-align:justify\">Cette conf&eacute\;rence fait partie d&#39\;un cycle de 3 conf&eacute\;rences. Nous vous invitons &agrave\; suivre en direct les deux autres conf&eacute\;rences pour&nbsp\;un &eacute\;clairage complet sur une bonne nutrition tout au long des &eacute\;v&egrave\;nements de la vie :</p>\n\n<p style=\"text-align:justify\">-<em> Les strat&eacute\;gies nutritionnelles &agrave\; la d&eacute\;couverte d&#39\;un cancer :&nbsp\;Comment bien s&#39\;alimenter pour pr&eacute\;server sa sant&eacute\; au diagnostic d&#39\;un cancer ?</em> le 6 novembre &agrave\; 14h00<br />\n<br />\n-&nbsp\;<em>Les cl&eacute\;s nutritionnelles apr&egrave\;s un cancer :&nbsp\;Comment retrouver le bien-&ecirc\;tre et corriger les carences apr&egrave\;s un traitement ? </em>- le 13 novembre &agrave\; 14h00.<br />\n<br />\n<br />\n&nbsp\;</p>\n\n<p style=\"text-align:justify\">Cette conf&eacute\;rence est organis&eacute\;e avec le soutien de&nbsp\;<a href=\"https://www.malakoffhumanis.com/\" target=\"_blank\">Malakoff Humanis</a>.</p>\n\n<p style=\"text-align:justify\"><strong><u><a href=\"https://lien.happyvisio.com/MH2025\" target=\"_blank\">Cliquez ici pour d&eacute\;couvrir toutes les conf&eacute\;rences du cycle Cancer Tous concern&eacute\;s</a></u></strong>.</p>\n\n<p style=\"text-align:justify\">&nbsp\;</p>\n\n<p style=\"text-align:justify\">&nbsp\;</p>\n<p><a href="http://www.happyvisio.com/conference/7306-Les-cles-pour-une-pleine-vitalite-la-prevention-des-cancers-par-l-alimentation">Cliquez-ici pour obtenir plus d’informations ou vous connecter à la conférence</a></p>
END:VEVENT
END:VCALENDAR
