BEGIN:VCALENDAR
VERSION:2.0
BEGIN:VEVENT
TZID:Europe/Paris
STATUS:CONFIRMED
DTSTART:20251028T140000
DTEND:20251028T153000
SUMMARY:Retrouver l’envie et la forme pendant et après la maladie
DESCRIPTION:<p><b>Titre de la conférence</b> : Retrouver l’envie et la forme pendant et après la maladie </p>
 <p><b>Date et heure de la conférence</b> : 28/10/2025 14h00</p>
 <p><b>Durée de la conférence </b>: 90 minutes</p>
 <b>Description</b> : <p style=\"text-align:justify\"><strong>Nous le savons : l&#39\;exercice physique fait du bien au corps autant qu&#39\;&agrave\; la t&ecirc\;te !</strong><br />\n<br />\nIl permet de se maintenir ou de se remettre en forme\, et a un impact direct sur le soin des cancers :</p>\n\n<ul>\n	<li style=\"text-align:justify\">Mais quel exercice ?</li>\n	<li style=\"text-align:justify\">Comment s&#39\;y mettre et s&#39\;y tenir ?</li>\n	<li style=\"text-align:justify\">Comment avoir une activit&eacute\; physique adapt&eacute\;e pendant ou apr&egrave\;s un traitement et quels en sont les effets pendant et apr&egrave\;s le traitement ?</li>\n	<li style=\"text-align:justify\">Quelle pr&eacute\;cautions et quelles recommandations sont &agrave\; respecter ?</li>\n</ul>\n\n<p style=\"text-align:justify\">Cyprien PERONET vous accompagnera durant 1h30 et r&eacute\;pondra &agrave\; vos questions dans le chat.</p>\n\n<p style=\"text-align:justify\">Cette conf&eacute\;rence est organis&eacute\;e avec le soutien de&nbsp\;<a href=\"https://www.malakoffhumanis.com/\" target=\"_blank\">Malakoff Humanis</a>.</p>\n\n<p style=\"text-align:justify\"><strong><u><a href=\"https://lien.happyvisio.com/MH2025\">Cliquez ici pour d&eacute\;couvrir toutes les conf&eacute\;rences du cycle Cancer Tous concern&eacute\;s</a></u></strong>.</p>\n\n<p>&nbsp\;</p>\n<p><a href="http://www.happyvisio.com/conference/7305-Retrouver-l-envie-et-la-forme-pendant-et-apres-la-maladie">Cliquez-ici pour obtenir plus d’informations ou vous connecter à la conférence</a></p>
X-ALT-DESC;FMTTYPE=text/html:<p><b>Titre de la conférence</b> : Retrouver l’envie et la forme pendant et après la maladie </p>
 <p><b>Date et heure de la conférence</b> : 28/10/2025 14h00</p>
 <p><b>Durée de la conférence </b>: 90 minutes</p>
 <b>Description</b> : <p style=\"text-align:justify\"><strong>Nous le savons : l&#39\;exercice physique fait du bien au corps autant qu&#39\;&agrave\; la t&ecirc\;te !</strong><br />\n<br />\nIl permet de se maintenir ou de se remettre en forme\, et a un impact direct sur le soin des cancers :</p>\n\n<ul>\n	<li style=\"text-align:justify\">Mais quel exercice ?</li>\n	<li style=\"text-align:justify\">Comment s&#39\;y mettre et s&#39\;y tenir ?</li>\n	<li style=\"text-align:justify\">Comment avoir une activit&eacute\; physique adapt&eacute\;e pendant ou apr&egrave\;s un traitement et quels en sont les effets pendant et apr&egrave\;s le traitement ?</li>\n	<li style=\"text-align:justify\">Quelle pr&eacute\;cautions et quelles recommandations sont &agrave\; respecter ?</li>\n</ul>\n\n<p style=\"text-align:justify\">Cyprien PERONET vous accompagnera durant 1h30 et r&eacute\;pondra &agrave\; vos questions dans le chat.</p>\n\n<p style=\"text-align:justify\">Cette conf&eacute\;rence est organis&eacute\;e avec le soutien de&nbsp\;<a href=\"https://www.malakoffhumanis.com/\" target=\"_blank\">Malakoff Humanis</a>.</p>\n\n<p style=\"text-align:justify\"><strong><u><a href=\"https://lien.happyvisio.com/MH2025\">Cliquez ici pour d&eacute\;couvrir toutes les conf&eacute\;rences du cycle Cancer Tous concern&eacute\;s</a></u></strong>.</p>\n\n<p>&nbsp\;</p>\n<p><a href="http://www.happyvisio.com/conference/7305-Retrouver-l-envie-et-la-forme-pendant-et-apres-la-maladie">Cliquez-ici pour obtenir plus d’informations ou vous connecter à la conférence</a></p>
END:VEVENT
END:VCALENDAR
