BEGIN:VCALENDAR
VERSION:2.0
BEGIN:VEVENT
TZID:Europe/Paris
STATUS:CONFIRMED
DTSTART:20251023T140000
DTEND:20251023T153000
SUMMARY:Bouger pour rester en forme
DESCRIPTION:<p><b>Titre de la conférence</b> : Bouger pour rester en forme </p>
 <p><b>Date et heure de la conférence</b> : 23/10/2025 14h00</p>
 <p><b>Durée de la conférence </b>: 90 minutes</p>
 <b>Description</b> : <p style=\"text-align:justify\"><strong>Nous le savons : l&#39\;exercice physique fait du bien au corps autant qu&#39\;&agrave\; la t&ecirc\;te !</strong><br />\n<br />\n<u>Il permet de se maintenir ou de se remettre en forme\, et a un impact direct sur la pr&eacute\;vention des cancers :</u></p>\n\n<ul>\n	<li style=\"text-align:justify\">Mais quel exercice ?</li>\n	<li style=\"text-align:justify\">Comment s&#39\;y mettre et s&#39\;y tenir ?</li>\n	<li style=\"text-align:justify\">Comment &eacute\;valuer son niveau de forme pour orienter sa pratique ?</li>\n</ul>\n\n<p style=\"text-align:justify\">Cyprien P&eacute\;ronet vous expliquera les effets de l&#39\;activit&eacute\; physique sur la sant&eacute\; physique\, mentale et sociale et vous fera des recommandations adapt&eacute\;es pour vous permettre de trouver votre programme personnalis&eacute\;.&nbsp\;</p>\n\n<p style=\"text-align:justify\">Cette conf&eacute\;rence est organis&eacute\;e avec le soutien de&nbsp\;<a href=\"https://www.malakoffhumanis.com/\" target=\"_blank\">Malakoff Humanis</a>.</p>\n\n<p style=\"text-align:justify\"><strong><u><a href=\"https://lien.happyvisio.com/MH2025\" target=\"_blank\">Cliquez ici pour d&eacute\;couvrir toutes les conf&eacute\;rences du cycle Cancer Tous concern&eacute\;s</a></u></strong>.</p>\n<p><a href="http://www.happyvisio.com/conference/7304-Bouger-pour-rester-en-forme">Cliquez-ici pour obtenir plus d’informations ou vous connecter à la conférence</a></p>
X-ALT-DESC;FMTTYPE=text/html:<p><b>Titre de la conférence</b> : Bouger pour rester en forme </p>
 <p><b>Date et heure de la conférence</b> : 23/10/2025 14h00</p>
 <p><b>Durée de la conférence </b>: 90 minutes</p>
 <b>Description</b> : <p style=\"text-align:justify\"><strong>Nous le savons : l&#39\;exercice physique fait du bien au corps autant qu&#39\;&agrave\; la t&ecirc\;te !</strong><br />\n<br />\n<u>Il permet de se maintenir ou de se remettre en forme\, et a un impact direct sur la pr&eacute\;vention des cancers :</u></p>\n\n<ul>\n	<li style=\"text-align:justify\">Mais quel exercice ?</li>\n	<li style=\"text-align:justify\">Comment s&#39\;y mettre et s&#39\;y tenir ?</li>\n	<li style=\"text-align:justify\">Comment &eacute\;valuer son niveau de forme pour orienter sa pratique ?</li>\n</ul>\n\n<p style=\"text-align:justify\">Cyprien P&eacute\;ronet vous expliquera les effets de l&#39\;activit&eacute\; physique sur la sant&eacute\; physique\, mentale et sociale et vous fera des recommandations adapt&eacute\;es pour vous permettre de trouver votre programme personnalis&eacute\;.&nbsp\;</p>\n\n<p style=\"text-align:justify\">Cette conf&eacute\;rence est organis&eacute\;e avec le soutien de&nbsp\;<a href=\"https://www.malakoffhumanis.com/\" target=\"_blank\">Malakoff Humanis</a>.</p>\n\n<p style=\"text-align:justify\"><strong><u><a href=\"https://lien.happyvisio.com/MH2025\" target=\"_blank\">Cliquez ici pour d&eacute\;couvrir toutes les conf&eacute\;rences du cycle Cancer Tous concern&eacute\;s</a></u></strong>.</p>\n<p><a href="http://www.happyvisio.com/conference/7304-Bouger-pour-rester-en-forme">Cliquez-ici pour obtenir plus d’informations ou vous connecter à la conférence</a></p>
END:VEVENT
END:VCALENDAR
