BEGIN:VCALENDAR
VERSION:2.0
BEGIN:VEVENT
TZID:Europe/Paris
STATUS:CONFIRMED
DTSTART:20251021T140000
DTEND:20251021T153000
SUMMARY:Le deuil de la normalité
DESCRIPTION:<p><b>Titre de la conférence</b> : Le deuil de la normalité </p>
 <p><b>Date et heure de la conférence</b> : 21/10/2025 14h00</p>
 <p><b>Durée de la conférence </b>: 90 minutes</p>
 <b>Description</b> : <p style=\"text-align:justify\">Il n&rsquo\;y a pas de moment ni de fa&ccedil\;on id&eacute\;ale de vivre son chagrin. Que cela concerne un proche\, un parent ou m&ecirc\;me son partenaire de vie\, nous sommes tous touch&eacute\;s un jour par un deuil.</p>\n\n<p style=\"text-align:justify\"><br />\nParfois le deuil prend des formes diff&eacute\;rentes\, parfois c&rsquo\;est la personnalit&eacute\; de la personne que l&rsquo\;on accompagne qui change\, parfois c&rsquo\;est de son pass&eacute\; ou encore de ses projets.</p>\n\n<p style=\"text-align:justify\"><br />\nParce que la vie n&rsquo\;est pas lin&eacute\;aire et que rarement les choses se passent comme nous l&rsquo\;avions pr&eacute\;vu\, je vous propose de nous retrouver pour partager avec vous mon exp&eacute\;rience\, vous donner de la visibilit&eacute\; sur ce processus complexe et peut-&ecirc\;tre un peu de r&eacute\;confort.</p>\n\n<p>Cette conf&eacute\;rence est organis&eacute\;e avec le soutien de&nbsp\;<a href=\"https://www.malakoffhumanis.com/\" target=\"_blank\">Malakoff Humanis</a>.</p>\n\n<p><strong><u><a href=\"https://lien.happyvisio.com/MH2025\" target=\"_blank\">Cliquez ici pour d&eacute\;couvrir toutes les conf&eacute\;rences du cycle Cancer Tous concern&eacute\;s</a></u></strong>.</p>\n\n<p style=\"text-align:justify\">&nbsp\;</p>\n<p><a href="http://www.happyvisio.com/conference/7303-Le-deuil-de-la-normalite">Cliquez-ici pour obtenir plus d’informations ou vous connecter à la conférence</a></p>
X-ALT-DESC;FMTTYPE=text/html:<p><b>Titre de la conférence</b> : Le deuil de la normalité </p>
 <p><b>Date et heure de la conférence</b> : 21/10/2025 14h00</p>
 <p><b>Durée de la conférence </b>: 90 minutes</p>
 <b>Description</b> : <p style=\"text-align:justify\">Il n&rsquo\;y a pas de moment ni de fa&ccedil\;on id&eacute\;ale de vivre son chagrin. Que cela concerne un proche\, un parent ou m&ecirc\;me son partenaire de vie\, nous sommes tous touch&eacute\;s un jour par un deuil.</p>\n\n<p style=\"text-align:justify\"><br />\nParfois le deuil prend des formes diff&eacute\;rentes\, parfois c&rsquo\;est la personnalit&eacute\; de la personne que l&rsquo\;on accompagne qui change\, parfois c&rsquo\;est de son pass&eacute\; ou encore de ses projets.</p>\n\n<p style=\"text-align:justify\"><br />\nParce que la vie n&rsquo\;est pas lin&eacute\;aire et que rarement les choses se passent comme nous l&rsquo\;avions pr&eacute\;vu\, je vous propose de nous retrouver pour partager avec vous mon exp&eacute\;rience\, vous donner de la visibilit&eacute\; sur ce processus complexe et peut-&ecirc\;tre un peu de r&eacute\;confort.</p>\n\n<p>Cette conf&eacute\;rence est organis&eacute\;e avec le soutien de&nbsp\;<a href=\"https://www.malakoffhumanis.com/\" target=\"_blank\">Malakoff Humanis</a>.</p>\n\n<p><strong><u><a href=\"https://lien.happyvisio.com/MH2025\" target=\"_blank\">Cliquez ici pour d&eacute\;couvrir toutes les conf&eacute\;rences du cycle Cancer Tous concern&eacute\;s</a></u></strong>.</p>\n\n<p style=\"text-align:justify\">&nbsp\;</p>\n<p><a href="http://www.happyvisio.com/conference/7303-Le-deuil-de-la-normalite">Cliquez-ici pour obtenir plus d’informations ou vous connecter à la conférence</a></p>
END:VEVENT
END:VCALENDAR
