BEGIN:VCALENDAR
VERSION:2.0
BEGIN:VEVENT
TZID:Europe/Paris
STATUS:CONFIRMED
DTSTART:20251127T150000
DTEND:20251127T160000
SUMMARY:Groupe de parole entre aidants - Thème libre
DESCRIPTION:<p><b>Titre de la conférence</b> : Groupe de parole entre aidants - Thème libre </p>
 <p><b>Date et heure de la conférence</b> : 27/11/2025 15h00</p>
 <p><b>Durée de la conférence </b>: 60 minutes</p>
 <b>Description</b> : <p style=\"text-align:justify\"><strong>Partageons nos exp&eacute\;riences et nos ressentis !</strong><br />\n<br />\nCe rendez-vous participatif bi-mensuel\, d&eacute\;di&eacute\; aux aidants et aidantes\, est anim&eacute\; par Elodie DELAERE\, neuropsychologue.</p>\n\n<ul>\n</ul>\n\n<p style=\"text-align:justify\">Durant 1h\, nous vous invitons &agrave\; venir discuter de votre r&ocirc\;le d&#39\;aidant.e\, &agrave\; partager vos difficult&eacute\;s et vos &eacute\;motions face &agrave\; la responsabilit&eacute\; et l&#39\;isolement que l&#39\;accompagnement d&#39\;un proche au quotidien peut cr&eacute\;er.<br />\nCe moment d&#39\;&eacute\;change vous permettra de nourrir votre r&eacute\;flexion et nuancer vos propres repr&eacute\;sentations.</p>\n\n<p style=\"text-align:justify\">L&#39\;intention vis&eacute\;e par cette dynamique de groupe est aussi :</p>\n\n<ul>\n	<li style=\"text-align:justify\">la r&eacute\;duction du stress \;</li>\n	<li style=\"text-align:justify\">la r&eacute\;gulation des &eacute\;motions telles que l&rsquo\;anxi&eacute\;t&eacute\;\, la tristesse\, la col&egrave\;re\, l&rsquo\;impulsivit&eacute\;&hellip\;\;</li>\n	<li style=\"text-align:justify\">un meilleur soutien face &agrave\; la maladie\, au deuil\, &agrave\; la transition de vie\, &agrave\; la fatigue \;</li>\n	<li style=\"text-align:justify\">ou plus simplement\, l&rsquo\;envie de prendre soin de soi.</li>\n</ul>\n\n<p style=\"text-align:justify\">Alors\, rejoignez-nous pour cette heure de partage avec cam&eacute\;ra et micro ouverts pour ceux qui le souhaitent et pour les autres\, par chat en direct.</p>\n\n<p style=\"text-align:justify\">A vous la parole !<br />\n<br />\n<br />\n<br />\n<br />\nVous recherchez des solutions d&#39\;aide pr&egrave\;s de chez vous ? Appuyez-vous sur <span style=\"color:#8e44ad\"><strong><em>Ma Boussole Aidants</em></strong></span>\, un annuaire en ligne de services g&eacute\;olocalis&eacute\;s. <a href=\"https://maboussoleaidants.fr/mes-solutions/navigate/groups\">Cliquez ici pour y acc&eacute\;der.</a><br />\n<br />\n&nbsp\;</p>\n<p><a href="http://www.happyvisio.com/conference/7275-Groupe-de-parole-entre-aidants-Theme-libre">Cliquez-ici pour obtenir plus d’informations ou vous connecter à la conférence</a></p>
X-ALT-DESC;FMTTYPE=text/html:<p><b>Titre de la conférence</b> : Groupe de parole entre aidants - Thème libre </p>
 <p><b>Date et heure de la conférence</b> : 27/11/2025 15h00</p>
 <p><b>Durée de la conférence </b>: 60 minutes</p>
 <b>Description</b> : <p style=\"text-align:justify\"><strong>Partageons nos exp&eacute\;riences et nos ressentis !</strong><br />\n<br />\nCe rendez-vous participatif bi-mensuel\, d&eacute\;di&eacute\; aux aidants et aidantes\, est anim&eacute\; par Elodie DELAERE\, neuropsychologue.</p>\n\n<ul>\n</ul>\n\n<p style=\"text-align:justify\">Durant 1h\, nous vous invitons &agrave\; venir discuter de votre r&ocirc\;le d&#39\;aidant.e\, &agrave\; partager vos difficult&eacute\;s et vos &eacute\;motions face &agrave\; la responsabilit&eacute\; et l&#39\;isolement que l&#39\;accompagnement d&#39\;un proche au quotidien peut cr&eacute\;er.<br />\nCe moment d&#39\;&eacute\;change vous permettra de nourrir votre r&eacute\;flexion et nuancer vos propres repr&eacute\;sentations.</p>\n\n<p style=\"text-align:justify\">L&#39\;intention vis&eacute\;e par cette dynamique de groupe est aussi :</p>\n\n<ul>\n	<li style=\"text-align:justify\">la r&eacute\;duction du stress \;</li>\n	<li style=\"text-align:justify\">la r&eacute\;gulation des &eacute\;motions telles que l&rsquo\;anxi&eacute\;t&eacute\;\, la tristesse\, la col&egrave\;re\, l&rsquo\;impulsivit&eacute\;&hellip\;\;</li>\n	<li style=\"text-align:justify\">un meilleur soutien face &agrave\; la maladie\, au deuil\, &agrave\; la transition de vie\, &agrave\; la fatigue \;</li>\n	<li style=\"text-align:justify\">ou plus simplement\, l&rsquo\;envie de prendre soin de soi.</li>\n</ul>\n\n<p style=\"text-align:justify\">Alors\, rejoignez-nous pour cette heure de partage avec cam&eacute\;ra et micro ouverts pour ceux qui le souhaitent et pour les autres\, par chat en direct.</p>\n\n<p style=\"text-align:justify\">A vous la parole !<br />\n<br />\n<br />\n<br />\n<br />\nVous recherchez des solutions d&#39\;aide pr&egrave\;s de chez vous ? Appuyez-vous sur <span style=\"color:#8e44ad\"><strong><em>Ma Boussole Aidants</em></strong></span>\, un annuaire en ligne de services g&eacute\;olocalis&eacute\;s. <a href=\"https://maboussoleaidants.fr/mes-solutions/navigate/groups\">Cliquez ici pour y acc&eacute\;der.</a><br />\n<br />\n&nbsp\;</p>\n<p><a href="http://www.happyvisio.com/conference/7275-Groupe-de-parole-entre-aidants-Theme-libre">Cliquez-ici pour obtenir plus d’informations ou vous connecter à la conférence</a></p>
END:VEVENT
END:VCALENDAR
