BEGIN:VCALENDAR
VERSION:2.0
BEGIN:VEVENT
TZID:Europe/Paris
STATUS:CONFIRMED
DTSTART:20251212T150000
DTEND:20251212T160000
SUMMARY:Aidants, exprimez-vous grâce à l'art-thérapie !
DESCRIPTION:TITRE DE LA CONFÉRENCE : Aidants, exprimez-vous grâce à l'art-thérapie !\n\nDATE ET HEURE DE LA CONFÉRENCE : 12/12/2025 15h00\n\nDURÉE DE LA CONFÉRENCE : 60 minutes\n\nDESCRIPTION : Parce qu'accompagner des proches dans la maladie et ses souffrances peut être un travail à plein temps\, sans pause réelle.\n\nParce qu'il est primordial de prendre soin de soi quand on prend soin des autres.\n\nJe vous propose des parenthèses pour vous\, rien que pour vous\, une parenthèse d'expression et de créativité\, pour se faire du bien.\n\nTout le monde est créatif.\n\nChacun exprime de manière unique cette capacité naturelle et instinctive.\n\nLaisser sa créativité s'exprimer librement\, c'est puiser dans ses propres ressources la force nécessaire pour avancer.\n\nDurant 1 h\, à vous de vous laisser porter par les mots\, les couleurs\, la musique ou les histoires\, lors d'un moment créatif et bienveillant\, grâce à des propositions ludiques que j'adapte en fonction des besoins du moment et des participants.\n\nNous serons en visio\, en petit groupe. La dynamique est soutenante et bienveillante.\n\nAucun pré-requis artistique n'est nécessaire. \n\nAucune performance n'est attendue.\n\nNous créons avec les moyens du bord\, ensemble\, et nous échangeons\, si on le souhaite\, ensuite.\n\nVoici la liste du matériel :\n- plusieurs feuilles de papier A4 ou A3\n- crayons\, stylos\n- ciseaux\, colle\n- crayons de couleur\, feutres et/ou pastels... (en fonction de ce que\nvous avez à la maison)\n- tout autre outil créatif que vous affectionnez (argile\, peinture\,\néléments naturels...)\n\nVous recherchez des solutions d'aide près de chez vous ? Appuyez-vous sur Ma Boussole Aidants\, un annuaire en ligne de services géolocalisés. Cliquez ici pour y accéder.\n\nCliquez sur le lien suivant pour plus d'informations ou vous connecter à la conférence : http://www.happyvisio.com/conference/7268-Aidants-exprimez-vous-grace-a-l-art-therapie
X-ALT-DESC;FMTTYPE=text/html:TITRE DE LA CONFÉRENCE : Aidants, exprimez-vous grâce à l'art-thérapie ! DATE ET HEURE DE LA CONFÉRENCE : 12/12/2025 15h00 DURÉE DE LA CONFÉRENCE : 60 minutes DESCRIPTION : Parce qu'accompagner des proches dans la maladie et ses souffrances peut être un travail à plein temps\, sans pause réelle.\n\nParce qu'il est primordial de prendre soin de soi quand on prend soin des autres.\n\nJe vous propose des parenthèses pour vous\, rien que pour vous\, une parenthèse d'expression et de créativité\, pour se faire du bien.\n\nTout le monde est créatif.\n\nChacun exprime de manière unique cette capacité naturelle et instinctive.\n\nLaisser sa créativité s'exprimer librement\, c'est puiser dans ses propres ressources la force nécessaire pour avancer.\n\nDurant 1 h\, à vous de vous laisser porter par les mots\, les couleurs\, la musique ou les histoires\, lors d'un moment créatif et bienveillant\, grâce à des propositions ludiques que j'adapte en fonction des besoins du moment et des participants.\n\nNous serons en visio\, en petit groupe. La dynamique est soutenante et bienveillante.\n\nAucun pré-requis artistique n'est nécessaire. \n\nAucune performance n'est attendue.\n\nNous créons avec les moyens du bord\, ensemble\, et nous échangeons\, si on le souhaite\, ensuite.\n\nVoici la liste du matériel :\n- plusieurs feuilles de papier A4 ou A3\n- crayons\, stylos\n- ciseaux\, colle\n- crayons de couleur\, feutres et/ou pastels... (en fonction de ce que\nvous avez à la maison)\n- tout autre outil créatif que vous affectionnez (argile\, peinture\,\néléments naturels...)\n\nVous recherchez des solutions d'aide près de chez vous ? Appuyez-vous sur Ma Boussole Aidants\, un annuaire en ligne de services géolocalisés. Cliquez ici pour y accéder.\n\nCliquez sur le lien suivant pour plus d'informations ou vous connecter à la conférence : http://www.happyvisio.com/conference/7268-Aidants-exprimez-vous-grace-a-l-art-therapie
END:VEVENT
END:VCALENDAR
