BEGIN:VCALENDAR
VERSION:2.0
BEGIN:VEVENT
TZID:Europe/Paris
STATUS:CONFIRMED
DTSTART:20251114T150000
DTEND:20251114T160000
SUMMARY:Aidants, exprimez-vous grâce à l'art-thérapie !
DESCRIPTION:<p><b>Titre de la conférence</b> : Aidants, exprimez-vous grâce à l'art-thérapie ! </p>
 <p><b>Date et heure de la conférence</b> : 14/11/2025 15h00</p>
 <p><b>Durée de la conférence </b>: 60 minutes</p>
 <b>Description</b> : <p>Parce qu&#39\;accompagner des proches dans la maladie et ses souffrances peut &ecirc\;tre un travail &agrave\; plein temps\, sans pause r&eacute\;elle.</p>\n\n<p>Parce qu&#39\;il est primordial de&nbsp\;prendre soin de soi quand on prend soin des autres.</p>\n\n<p>Je vous propose des parenth&egrave\;ses pour vous\, rien que pour vous\, une&nbsp\;parenth&egrave\;se d&#39\;expression et de cr&eacute\;ativit&eacute\;\, pour&nbsp\;se faire du bien.</p>\n\n<p>Tout le monde est cr&eacute\;atif.</p>\n\n<p>Chacun exprime de mani&egrave\;re unique cette capacit&eacute\; naturelle et instinctive.</p>\n\n<p>Laisser sa cr&eacute\;ativit&eacute\; s&#39\;exprimer librement\, c&#39\;est&nbsp\;puiser dans ses propres ressources la force n&eacute\;cessaire pour avancer.</p>\n\n<p>Durant 1 h\,&nbsp\;&agrave\; vous de vous laisser porter&nbsp\;par les mots\, les couleurs\, la musique ou les histoires\, lors d&#39\;un moment cr&eacute\;atif et bienveillant\, gr&acirc\;ce &agrave\; des propositions ludiques que j&#39\;adapte en fonction des besoins du moment et des participants.</p>\n\n<p>Nous serons en visio\, en petit groupe. La dynamique est soutenante et bienveillante.</p>\n\n<p>Aucun pr&eacute\;-requis artistique n&#39\;est n&eacute\;cessaire.&nbsp\;</p>\n\n<p>Aucune performance n&#39\;est attendue.</p>\n\n<p>Nous cr&eacute\;ons avec les moyens du bord\, ensemble\, et nous &eacute\;changeons\, si on le souhaite\, ensuite.<br />\n<br />\nVoici la liste du mat&eacute\;riel :<br />\n- plusieurs feuilles de papier A4 ou A3<br />\n- crayons\, stylos<br />\n- ciseaux\, colle<br />\n- crayons de couleur\, feutres et/ou pastels... (en fonction de ce que<br />\nvous avez &agrave\; la maison)<br />\n- tout autre outil cr&eacute\;atif que vous affectionnez (argile\, peinture\,<br />\n&eacute\;l&eacute\;ments naturels...)<br />\n<br />\nVous recherchez des solutions d&#39\;aide pr&egrave\;s de chez vous ? Appuyez-vous sur <span style=\"color:#8e44ad\"><strong><em>Ma Boussole Aidants</em></strong></span>\, un annuaire en ligne de services g&eacute\;olocalis&eacute\;s. <a href=\"https://maboussoleaidants.fr/mes-solutions/navigate/groups\">Cliquez ici pour y acc&eacute\;der.</a></p>\n<p><a href="http://www.happyvisio.com/conference/7267-Aidants-exprimez-vous-grace-a-l-art-therapie">Cliquez-ici pour obtenir plus d’informations ou vous connecter à la conférence</a></p>
X-ALT-DESC;FMTTYPE=text/html:<p><b>Titre de la conférence</b> : Aidants, exprimez-vous grâce à l'art-thérapie ! </p>
 <p><b>Date et heure de la conférence</b> : 14/11/2025 15h00</p>
 <p><b>Durée de la conférence </b>: 60 minutes</p>
 <b>Description</b> : <p>Parce qu&#39\;accompagner des proches dans la maladie et ses souffrances peut &ecirc\;tre un travail &agrave\; plein temps\, sans pause r&eacute\;elle.</p>\n\n<p>Parce qu&#39\;il est primordial de&nbsp\;prendre soin de soi quand on prend soin des autres.</p>\n\n<p>Je vous propose des parenth&egrave\;ses pour vous\, rien que pour vous\, une&nbsp\;parenth&egrave\;se d&#39\;expression et de cr&eacute\;ativit&eacute\;\, pour&nbsp\;se faire du bien.</p>\n\n<p>Tout le monde est cr&eacute\;atif.</p>\n\n<p>Chacun exprime de mani&egrave\;re unique cette capacit&eacute\; naturelle et instinctive.</p>\n\n<p>Laisser sa cr&eacute\;ativit&eacute\; s&#39\;exprimer librement\, c&#39\;est&nbsp\;puiser dans ses propres ressources la force n&eacute\;cessaire pour avancer.</p>\n\n<p>Durant 1 h\,&nbsp\;&agrave\; vous de vous laisser porter&nbsp\;par les mots\, les couleurs\, la musique ou les histoires\, lors d&#39\;un moment cr&eacute\;atif et bienveillant\, gr&acirc\;ce &agrave\; des propositions ludiques que j&#39\;adapte en fonction des besoins du moment et des participants.</p>\n\n<p>Nous serons en visio\, en petit groupe. La dynamique est soutenante et bienveillante.</p>\n\n<p>Aucun pr&eacute\;-requis artistique n&#39\;est n&eacute\;cessaire.&nbsp\;</p>\n\n<p>Aucune performance n&#39\;est attendue.</p>\n\n<p>Nous cr&eacute\;ons avec les moyens du bord\, ensemble\, et nous &eacute\;changeons\, si on le souhaite\, ensuite.<br />\n<br />\nVoici la liste du mat&eacute\;riel :<br />\n- plusieurs feuilles de papier A4 ou A3<br />\n- crayons\, stylos<br />\n- ciseaux\, colle<br />\n- crayons de couleur\, feutres et/ou pastels... (en fonction de ce que<br />\nvous avez &agrave\; la maison)<br />\n- tout autre outil cr&eacute\;atif que vous affectionnez (argile\, peinture\,<br />\n&eacute\;l&eacute\;ments naturels...)<br />\n<br />\nVous recherchez des solutions d&#39\;aide pr&egrave\;s de chez vous ? Appuyez-vous sur <span style=\"color:#8e44ad\"><strong><em>Ma Boussole Aidants</em></strong></span>\, un annuaire en ligne de services g&eacute\;olocalis&eacute\;s. <a href=\"https://maboussoleaidants.fr/mes-solutions/navigate/groups\">Cliquez ici pour y acc&eacute\;der.</a></p>\n<p><a href="http://www.happyvisio.com/conference/7267-Aidants-exprimez-vous-grace-a-l-art-therapie">Cliquez-ici pour obtenir plus d’informations ou vous connecter à la conférence</a></p>
END:VEVENT
END:VCALENDAR
