BEGIN:VCALENDAR
VERSION:2.0
BEGIN:VEVENT
TZID:Europe/Paris
STATUS:CONFIRMED
DTSTART:20251002T143000
DTEND:20251002T153000
SUMMARY:Découvrez la communication non violente au quotidien !
DESCRIPTION:<p><b>Titre de la conférence</b> : Découvrez la communication non violente au quotidien ! </p>
 <p><b>Date et heure de la conférence</b> : 02/10/2025 14h30</p>
 <p><b>Durée de la conférence </b>: 60 minutes</p>
 <b>Description</b> : <p>Cette conf&eacute\;rence autour de la communication non violente propose d&rsquo\;explorer diff&eacute\;rentes fa&ccedil\;ons de communiquer pour mieux comprendre les malentendus et &eacute\;viter les tensions relationnelles.</p>\n\n<p>&Agrave\; partir d&rsquo\;exemples concrets du quotidien\, nous d&eacute\;couvrirons des notions essentielles comme l&rsquo\;assertivit&eacute\;\, afin de favoriser une communication qui respecte &agrave\; la fois nos besoins personnels et ceux de nos interlocuteurs.</p>\n\n<p>Cette conf&eacute\;rence pratique s&rsquo\;adresse &agrave\; toute personne qui ressent le besoin de communiquer mieux et de d&eacute\;samorcer les conflits avec ses amis ou ses proches.</p>\n<p><a href="http://www.happyvisio.com/conference/7220-Decouvrez-la-communication-non-violente-au-quotidien">Cliquez-ici pour obtenir plus d’informations ou vous connecter à la conférence</a></p>
X-ALT-DESC;FMTTYPE=text/html:<p><b>Titre de la conférence</b> : Découvrez la communication non violente au quotidien ! </p>
 <p><b>Date et heure de la conférence</b> : 02/10/2025 14h30</p>
 <p><b>Durée de la conférence </b>: 60 minutes</p>
 <b>Description</b> : <p>Cette conf&eacute\;rence autour de la communication non violente propose d&rsquo\;explorer diff&eacute\;rentes fa&ccedil\;ons de communiquer pour mieux comprendre les malentendus et &eacute\;viter les tensions relationnelles.</p>\n\n<p>&Agrave\; partir d&rsquo\;exemples concrets du quotidien\, nous d&eacute\;couvrirons des notions essentielles comme l&rsquo\;assertivit&eacute\;\, afin de favoriser une communication qui respecte &agrave\; la fois nos besoins personnels et ceux de nos interlocuteurs.</p>\n\n<p>Cette conf&eacute\;rence pratique s&rsquo\;adresse &agrave\; toute personne qui ressent le besoin de communiquer mieux et de d&eacute\;samorcer les conflits avec ses amis ou ses proches.</p>\n<p><a href="http://www.happyvisio.com/conference/7220-Decouvrez-la-communication-non-violente-au-quotidien">Cliquez-ici pour obtenir plus d’informations ou vous connecter à la conférence</a></p>
END:VEVENT
END:VCALENDAR
