BEGIN:VCALENDAR
VERSION:2.0
BEGIN:VEVENT
TZID:Europe/Paris
STATUS:CONFIRMED
DTSTART:20250613T150000
DTEND:20250613T160000
SUMMARY:Groupe de parole entre aidants - Thème libre
DESCRIPTION:TITRE DE LA CONFÉRENCE : Groupe de parole entre aidants - Thème libre\n\nDATE ET HEURE DE LA CONFÉRENCE : 13/06/2025 15h00\n\nDURÉE DE LA CONFÉRENCE : 60 minutes\n\nDESCRIPTION : Partageons nos expériences et nos ressentis !\n\nCe rendez-vous participatif bi-mensuel\, dédié aux aidants et aidantes\, est animé par Thomas DIAS\, psychologue.\n\n\n\n\nDurant 1h\, nous vous invitons à venir discuter de votre rôle d'aidant.e\, à partager vos difficultés et vos émotions face à la responsabilité et l'isolement que l'accompagnement d'un proche au quotidien peut créer.\nCe moment d'échange vous permettra de nourrir votre réflexion et nuancer vos propres représentations.\n\nL'intention visée par cette dynamique de groupe est aussi :\n\n\n	la réduction du stress \;\n	la régulation des émotions telles que l’anxiété\, la tristesse\, la colère\, l’impulsivité…\;\n	un meilleur soutien face à la maladie\, au deuil\, à la transition de vie\, à la fatigue \;\n	ou plus simplement\, l’envie de prendre soin de soi.\n\n\nAlors\, rejoignez-nous pour cette heure de partage avec caméra et micro ouverts pour ceux qui le souhaitent et pour les autres\, par chat en direct.\n\nA vous la parole !\n\nCliquez sur le lien suivant pour plus d'informations ou vous connecter à la conférence : http://www.happyvisio.com/conference/5978-groupe-de-parole-entre-aidants-theme-libre-1-1-1-1-1-1
X-ALT-DESC;FMTTYPE=text/html:TITRE DE LA CONFÉRENCE : Groupe de parole entre aidants - Thème libre DATE ET HEURE DE LA CONFÉRENCE : 13/06/2025 15h00 DURÉE DE LA CONFÉRENCE : 60 minutes DESCRIPTION : Partageons nos expériences et nos ressentis !\n\nCe rendez-vous participatif bi-mensuel\, dédié aux aidants et aidantes\, est animé par Thomas DIAS\, psychologue.\n\n\n\n\nDurant 1h\, nous vous invitons à venir discuter de votre rôle d'aidant.e\, à partager vos difficultés et vos émotions face à la responsabilité et l'isolement que l'accompagnement d'un proche au quotidien peut créer.\nCe moment d'échange vous permettra de nourrir votre réflexion et nuancer vos propres représentations.\n\nL'intention visée par cette dynamique de groupe est aussi :\n\n\n	la réduction du stress \;\n	la régulation des émotions telles que l’anxiété\, la tristesse\, la colère\, l’impulsivité…\;\n	un meilleur soutien face à la maladie\, au deuil\, à la transition de vie\, à la fatigue \;\n	ou plus simplement\, l’envie de prendre soin de soi.\n\n\nAlors\, rejoignez-nous pour cette heure de partage avec caméra et micro ouverts pour ceux qui le souhaitent et pour les autres\, par chat en direct.\n\nA vous la parole !\n\nCliquez sur le lien suivant pour plus d'informations ou vous connecter à la conférence : http://www.happyvisio.com/conference/5978-groupe-de-parole-entre-aidants-theme-libre-1-1-1-1-1-1
END:VEVENT
END:VCALENDAR
