BEGIN:VCALENDAR
VERSION:2.0
BEGIN:VEVENT
TZID:Europe/Paris
STATUS:CONFIRMED
DTSTART:20201010T143000
DTEND:20201010T163000
SUMMARY:Quel répit pour les aidant.e.s ?
DESCRIPTION:TITRE DE LA CONFÉRENCE : Quel répit pour les aidant.e.s ?\n\nDATE ET HEURE DE LA CONFÉRENCE : 10/10/2020 14h30\n\nDURÉE DE LA CONFÉRENCE : 120 minutes\n\nDESCRIPTION : HEURE MÉTROPOLE : 14H30 - 16H30 \NHEURE DE GUYANE : 9H30 - 11H30 \n\nUne Journée Nationale des Aidants\, consacrée aux proches aidants !\nLe 10 octobre 2020\, le Collectif La Rencontre des Aidants renouvelle l’expérience\, en proposant un espace dédié aux proches aidants\, aux personnes aidées et aux acteurs qui œuvrent en leur faveur.\nLa Journée Nationale des Aidants\, a été initiée en 2008 par le Collectif Je t’Aide\, pour mettre à l’honneur les proches aidants et les acteurs qui les soutiennent par une grande campagne de sensibilisation dans la France entière. La thématique 2020 est le « Répit »\, parce qu’aider ne devrait plus être un combat.\nL'édition 2020 est axée sur le RÉPIT des aidants\, avec un tour d'horizon pour explorer la question du point de vue des besoins des aidants\, de la réponse des institutions  (CTG\, ARS)\, des solutions de répit disponibles sur le territoire et du vécu des aidants.\nEspace virtuel : toute une documentation à récupérer sur le répit et les possibilités de soutien des aidants.\nProgramme de la conférence :\n► « Le répit des aidants et leurs droits » par la Collectivité Territoriale de la Guyane \nIntervenants : Dr Rosnel\, directrice de l'Autonomie\, Mme Corlier coordinatrice de la conférence des financeurs\, Mme Géraldine HO-TIN-NOE\, Responsable de service de la Gestion des établissements et services sociaux et Médico-sociaux\, l’élue Mme Elainne Jean\, conseillère territoriale\n► « Diversification de l’offre de répit sur le territoire » par l’Agence Régionale de Santé de Guyane \nMme De Bort\, Directrice Générale de l’ARS\n► Témoignages d’aidants adhérents aux associations suivantes : \n-	Atipa autisme \n-	France Alzheimer \n\nCliquez sur le lien suivant pour plus d'informations ou vous connecter à la conférence : http://www.happyvisio.com/conference/quel-repit-pour-les-aidant-e-s
X-ALT-DESC;FMTTYPE=text/html:TITRE DE LA CONFÉRENCE : Quel répit pour les aidant.e.s ? DATE ET HEURE DE LA CONFÉRENCE : 10/10/2020 14h30 DURÉE DE LA CONFÉRENCE : 120 minutes DESCRIPTION : HEURE MÉTROPOLE : 14H30 - 16H30 \NHEURE DE GUYANE : 9H30 - 11H30 \n\nUne Journée Nationale des Aidants\, consacrée aux proches aidants !\nLe 10 octobre 2020\, le Collectif La Rencontre des Aidants renouvelle l’expérience\, en proposant un espace dédié aux proches aidants\, aux personnes aidées et aux acteurs qui œuvrent en leur faveur.\nLa Journée Nationale des Aidants\, a été initiée en 2008 par le Collectif Je t’Aide\, pour mettre à l’honneur les proches aidants et les acteurs qui les soutiennent par une grande campagne de sensibilisation dans la France entière. La thématique 2020 est le « Répit »\, parce qu’aider ne devrait plus être un combat.\nL'édition 2020 est axée sur le RÉPIT des aidants\, avec un tour d'horizon pour explorer la question du point de vue des besoins des aidants\, de la réponse des institutions  (CTG\, ARS)\, des solutions de répit disponibles sur le territoire et du vécu des aidants.\nEspace virtuel : toute une documentation à récupérer sur le répit et les possibilités de soutien des aidants.\nProgramme de la conférence :\n► « Le répit des aidants et leurs droits » par la Collectivité Territoriale de la Guyane \nIntervenants : Dr Rosnel\, directrice de l'Autonomie\, Mme Corlier coordinatrice de la conférence des financeurs\, Mme Géraldine HO-TIN-NOE\, Responsable de service de la Gestion des établissements et services sociaux et Médico-sociaux\, l’élue Mme Elainne Jean\, conseillère territoriale\n► « Diversification de l’offre de répit sur le territoire » par l’Agence Régionale de Santé de Guyane \nMme De Bort\, Directrice Générale de l’ARS\n► Témoignages d’aidants adhérents aux associations suivantes : \n-	Atipa autisme \n-	France Alzheimer \n\nCliquez sur le lien suivant pour plus d'informations ou vous connecter à la conférence : http://www.happyvisio.com/conference/quel-repit-pour-les-aidant-e-s
END:VEVENT
END:VCALENDAR
