BEGIN:VCALENDAR
VERSION:2.0
BEGIN:VEVENT
TZID:Europe/Paris
STATUS:CONFIRMED
DTSTART:20240618T100000
DTEND:20240618T113000
SUMMARY:Voilà l’été, si on bougeait ?
DESCRIPTION:TITRE DE LA CONFÉRENCE : Voilà l’été, si on bougeait ?\n\nDATE ET HEURE DE LA CONFÉRENCE : 18/06/2024 10h00\n\nDURÉE DE LA CONFÉRENCE : 90 minutes\n\nDESCRIPTION : Cet été\, on va bouger… et pas que dans les stades ! Pour se mettre au diapason\, l’Agirc-Arrco\, l’Assurance retraite\, la MSA\, la CNRACL et Santé Publique France\, épaulées par le célèbre animateur Julien Lepers\, vous convient à une webconférence sur les (nombreux) bienfaits de l’activité physique. Venez partager avec nous un moment convivial\, ludique... et dynamique pour lutter contre les idées reçues tout en vous amusant.\n\nVous vivez à Apt\, Bayonne\, Chinon\, Colmar\, Dole\, Guéret\, La-Roche-Sur-Yon\, Le-Puy-en-Velay\, Louviers\, Narbonne\, Pontault-Combault\, St-Dizier\, St-Malo\, St-Quentin\, Tarare\, L’Union ou dans leurs environs ? Dans la foulée de cette conférence\, vos régimes de retraite vous invitent\, du 1er juillet à la fin août\, à des séances de marche gratuites en groupe avec des surprises en lien avec l’actualité sportive de l’été.\n\nDès la fin de la conférence\, vous pourrez vous inscrire sur le site de l’Eté indien ou par téléphone en contactant le 03 10 93 08 58 (numéro non surtaxé\, du lundi au vendredi de 9h à 17h\, hors jours fériés).\n\nL’activité physique et vous\, ça fait deux ? Rassurez-vous\, l’objectif n’est pas la performance\, mais de prendre du bon temps. Car comme chacun sait\, l’important\, c’est de participer !\n\nCette conférence est proposée par l'Agirc-Arrco.\n\nL’Agirc-Arrco vous propose de participer à des événements organisés au plus près de chez vous en présentiel : Conférences\, Forum\, Théâtres\, Activités physiques. Pour découvrir ces activités et vous y inscrire\, veuillez cliquer ici.\n\nCliquez sur le lien suivant pour plus d'informations ou vous connecter à la conférence : http://www.happyvisio.com/conference/voila-lete-si-on-bougeait-1
X-ALT-DESC;FMTTYPE=text/html:TITRE DE LA CONFÉRENCE : Voilà l’été, si on bougeait ? DATE ET HEURE DE LA CONFÉRENCE : 18/06/2024 10h00 DURÉE DE LA CONFÉRENCE : 90 minutes DESCRIPTION : Cet été\, on va bouger… et pas que dans les stades ! Pour se mettre au diapason\, l’Agirc-Arrco\, l’Assurance retraite\, la MSA\, la CNRACL et Santé Publique France\, épaulées par le célèbre animateur Julien Lepers\, vous convient à une webconférence sur les (nombreux) bienfaits de l’activité physique. Venez partager avec nous un moment convivial\, ludique... et dynamique pour lutter contre les idées reçues tout en vous amusant.\n\nVous vivez à Apt\, Bayonne\, Chinon\, Colmar\, Dole\, Guéret\, La-Roche-Sur-Yon\, Le-Puy-en-Velay\, Louviers\, Narbonne\, Pontault-Combault\, St-Dizier\, St-Malo\, St-Quentin\, Tarare\, L’Union ou dans leurs environs ? Dans la foulée de cette conférence\, vos régimes de retraite vous invitent\, du 1er juillet à la fin août\, à des séances de marche gratuites en groupe avec des surprises en lien avec l’actualité sportive de l’été.\n\nDès la fin de la conférence\, vous pourrez vous inscrire sur le site de l’Eté indien ou par téléphone en contactant le 03 10 93 08 58 (numéro non surtaxé\, du lundi au vendredi de 9h à 17h\, hors jours fériés).\n\nL’activité physique et vous\, ça fait deux ? Rassurez-vous\, l’objectif n’est pas la performance\, mais de prendre du bon temps. Car comme chacun sait\, l’important\, c’est de participer !\n\nCette conférence est proposée par l'Agirc-Arrco.\n\nL’Agirc-Arrco vous propose de participer à des événements organisés au plus près de chez vous en présentiel : Conférences\, Forum\, Théâtres\, Activités physiques. Pour découvrir ces activités et vous y inscrire\, veuillez cliquer ici.\n\nCliquez sur le lien suivant pour plus d'informations ou vous connecter à la conférence : http://www.happyvisio.com/conference/voila-lete-si-on-bougeait-1
END:VEVENT
END:VCALENDAR
