BEGIN:VCALENDAR
VERSION:2.0
BEGIN:VEVENT
TZID:Europe/Paris
STATUS:CONFIRMED
DTSTART:20241022T143000
DTEND:20241022T153000
SUMMARY:Ostéoporose, maladie silencieuse
DESCRIPTION:TITRE DE LA CONFÉRENCE : Ostéoporose, maladie silencieuse\n\nDATE ET HEURE DE LA CONFÉRENCE : 22/10/2024 14h30\n\nDURÉE DE LA CONFÉRENCE : 60 minutes\n\nDESCRIPTION : Qu’est-ce que l’ostéoporose ?  Qui est concerné ? Peut-on agir sur cette pathologie ? Par le sport ? La nutrition ? Quel est l'impact des changements nutritionnels et comportementaux sur notre squelette ?\n\nC'est à ces questions que Laure Compas\, diététicienne nutritionniste\, apportera des réponses au cours de cette conférence.\n\n \n\nCliquez sur le lien suivant pour plus d'informations ou vous connecter à la conférence : http://www.happyvisio.com/conference/osteoporose-maladie-silencieuse-1
X-ALT-DESC;FMTTYPE=text/html:TITRE DE LA CONFÉRENCE : Ostéoporose, maladie silencieuse DATE ET HEURE DE LA CONFÉRENCE : 22/10/2024 14h30 DURÉE DE LA CONFÉRENCE : 60 minutes DESCRIPTION : Qu’est-ce que l’ostéoporose ?  Qui est concerné ? Peut-on agir sur cette pathologie ? Par le sport ? La nutrition ? Quel est l'impact des changements nutritionnels et comportementaux sur notre squelette ?\n\nC'est à ces questions que Laure Compas\, diététicienne nutritionniste\, apportera des réponses au cours de cette conférence.\n\n \n\nCliquez sur le lien suivant pour plus d'informations ou vous connecter à la conférence : http://www.happyvisio.com/conference/osteoporose-maladie-silencieuse-1
END:VEVENT
END:VCALENDAR
