BEGIN:VCALENDAR
VERSION:2.0
BEGIN:VEVENT
TZID:Europe/Paris
STATUS:CONFIRMED
DTSTART:20200529T170000
DTEND:20200529T181500
SUMMARY:L'évolution du sommeil avec l'âge
DESCRIPTION:<p><b>Titre de la conférence</b> : L'évolution du sommeil avec l'âge </p>
 <p><b>Date et heure de la conférence</b> : 29/05/2020 17h00</p>
 <p><b>Durée de la conférence </b>: 75 minutes</p>
 <b>Description</b> : Cette conférence a pour objectif de vous faire connaître les bases de la physiologie du sommeil et la physiologie du vieillissement du sommeil\, et vous faire bien distinguer le vieillissement du sommeil des insomnies.\n<p><a href="http://www.happyvisio.com/conference/levolution-du-sommeil-avec-lage">Cliquez-ici pour obtenir plus d’informations ou vous connecter à la conférence</a></p>
X-ALT-DESC;FMTTYPE=text/html:<p><b>Titre de la conférence</b> : L'évolution du sommeil avec l'âge </p>
 <p><b>Date et heure de la conférence</b> : 29/05/2020 17h00</p>
 <p><b>Durée de la conférence </b>: 75 minutes</p>
 <b>Description</b> : Cette conférence a pour objectif de vous faire connaître les bases de la physiologie du sommeil et la physiologie du vieillissement du sommeil\, et vous faire bien distinguer le vieillissement du sommeil des insomnies.\n<p><a href="http://www.happyvisio.com/conference/levolution-du-sommeil-avec-lage">Cliquez-ici pour obtenir plus d’informations ou vous connecter à la conférence</a></p>
END:VEVENT
END:VCALENDAR
