BEGIN:VCALENDAR
VERSION:2.0
BEGIN:VEVENT
TZID:Europe/Paris
STATUS:CONFIRMED
DTSTART:20200603T170000
DTEND:20200603T181500
SUMMARY:Quiz de culture générale
DESCRIPTION:TITRE DE LA CONFÉRENCE : Quiz de culture générale\n\nDATE ET HEURE DE LA CONFÉRENCE : 03/06/2020 17h00\n\nDURÉE DE LA CONFÉRENCE : 75 minutes\n\nDESCRIPTION : Ce Quiz de culture générale est un jeu animé en direct par Guillaume de l'association Partage Numérique\, durant lequel vous serez invité(e)\, si vous le souhaitez\, à répondre par écrit à des questions de culture générale. \n\nVous serez peut être amené(e) à devoir retrouver le nom de chanteurs ou musiciens (quiz musicaux)\, à résoudre des énigmes\, etc.De nombreuses séquences sont proposées tout au long de ce quiz. Un divertissement convivial\, enjoué et instructif .  \n\nCliquez sur le lien suivant pour plus d'informations ou vous connecter à la conférence : http://www.happyvisio.com/conference/quiz-de-culture-generale
X-ALT-DESC;FMTTYPE=text/html:TITRE DE LA CONFÉRENCE : Quiz de culture générale DATE ET HEURE DE LA CONFÉRENCE : 03/06/2020 17h00 DURÉE DE LA CONFÉRENCE : 75 minutes DESCRIPTION : Ce Quiz de culture générale est un jeu animé en direct par Guillaume de l'association Partage Numérique\, durant lequel vous serez invité(e)\, si vous le souhaitez\, à répondre par écrit à des questions de culture générale. \n\nVous serez peut être amené(e) à devoir retrouver le nom de chanteurs ou musiciens (quiz musicaux)\, à résoudre des énigmes\, etc.De nombreuses séquences sont proposées tout au long de ce quiz. Un divertissement convivial\, enjoué et instructif .  \n\nCliquez sur le lien suivant pour plus d'informations ou vous connecter à la conférence : http://www.happyvisio.com/conference/quiz-de-culture-generale
END:VEVENT
END:VCALENDAR
